Workbook

Sheet rapport_financier
A2: LB | B2: Lignes budégaires | C2: Libellé | D2: Budget | E2: RF intermédiaire | F2: RF final selon facturier | G2: % | H2: Solde
B3: 1. Investissements
A4: 1.1 | B4: Ordinateur portable | C4: Lenovo Thinkpad 13 20Gb | D4: 1187.7239 | E4: 1474.51 | F4: =SUMIF(Dépenses_Belgique!$A$4:$A$257,rapport_financier!A4,Dépenses_Belgique!$E$4:$E$257) -> 1474.51 | G4: =F4/D4 -> 1.2414586 | H4: =+D4-F4 -> -286.7861
B5: sous-total | D5: =D4 -> 1187.7239 | E5: =E4 -> 1474.51 | F5: =F4 -> 1474.51 | G5: =F5/D5 -> 1.2414586 | H5: =+D5-F5 -> -286.7861
B6: 2. Frais généraux
A7: 2.1 | B7: Charges locatives | C7: Partie proportionnelle de la location de bureaux affectée au projet | D7: 1577.363 | E7: 675 | F7: =SUMIF(Dépenses_Belgique!$A$4:$A$257,rapport_financier!A7,Dépenses_Belgique!$E$4:$E$257) -> 1710 | G7: =F7/D7 -> 1.0840878 | H7: =+D7-F7 -> -132.63699
A8: 2.2 | B8: Consommation eau, electicité, gaz | C8: Partie proportionnelle de la participation aux frais du bâtiment affectée au projet | D8: 619.0624 | E8: 281.62 | F8: =SUMIF(Dépenses_Belgique!$A$4:$A$257,rapport_financier!A8,Dépenses_Belgique!$E$4:$E$257) -> 796.312 | G8: =F8/D8 -> 1.2863194 | H8: =+D8-F8 -> -177.2496
A9: 2.3 | B9: Assurance RC | C9: Partie proportionnelle de la assurance RC affecté au projet | D9: 244.40153 | E9: 83.68 | F9: =SUMIF(Dépenses_Belgique!$A$4:$A$257,rapport_financier!A9,Dépenses_Belgique!$E$4:$E$257) -> 338.68 | G9: =F9/D9 -> 1.3857524 | H9: =+D9-F9 -> -94.278472
A10: 2.4 | B10: Poste | C10: Partie proportionnelle des frais de Poste et expéditions affectée au projet | D10: 383.825 | E10: 67.53 | F10: =SUMIF(Dépenses_Belgique!$A$4:$A$257,rapport_financier!A10,Dépenses_Belgique!$E$4:$E$257) -> 691.48 | G10: =F10/D10 -> 1.8015502 | H10: =+D10-F10 -> -307.655
A11: 2.5 | B11: Téléphonie | C11: Partie proportionnelle des frais de téléphone affectée au projet | D11: 172.72125 | E11: 79.83 | F11: =SUMIF(Dépenses_Belgique!$A$4:$A$257,rapport_financier!A11,Dépenses_Belgique!$E$4:$E$257) -> 431.0102 | G11: =F11/D11 -> 2.4954092 | H11: =+D11-F11 -> -258.28895
B12: sous-total | D12: =SUM(D7:D11) -> 2997.3732 | E12: =SUM(E7:E11) -> 1187.66 | F12: =SUM(F7:F11) -> 3967.4822 | G12: =F12/D12 -> 1.3236531 | H12: =+D12-F12 -> -970.109
B13: 3. Frais de déplacement
A14: 3.1 | B14: Voyages, logement et perdiem au Burundi | C14: 1 personne 1 fois par an (1 semaine - 10 jours) | D14: 8183.149 | E14: 4687.83 | F14: =SUMIF(Dépenses_Belgique!$A$4:$A$257,rapport_financier!A14,Dépenses_Belgique!$E$4:$E$257) -> 11842.82 | G14: =F14/D14 -> 1.4472204 | H14: =+D14-F14 -> -3659.671
A15: 3.2 | B15: Accueil de partenaires en Belgique | C15: 1 accueil 1 fois par an (1 semaine-10 jours) | D15: 9211.8 | E15: 1679.95 | F15: =SUMIF(Dépenses_Belgique!$A$4:$A$257,rapport_financier!A15,Dépenses_Belgique!$E$4:$E$257) -> 3262.6 | G15: =F15/D15 -> 0.35417617 | H15: =+D15-F15 -> 5949.2
B16: sous-total | D16: =SUM(D14:D15) -> 17394.949 | E16: =SUM(E14:E15) -> 6367.78 | F16: =SUM(F14:F15) -> 15105.42 | G16: =F16/D16 -> 0.86837967 | H16: =+D16-F16 -> 2289.529
B17: 4. Sous-traitance, honoraires
A18: 4.1 | B18: Dépenses | C18: Frais de voyage, visa, communications et autres | D18: 9840 | E18: 3936 | F18: =SUMIF(Dépenses_Belgique!$A$4:$A$257,rapport_financier!A18,Dépenses_Belgique!$E$4:$E$257) -> -557.24 | G18: =F18/D18 -> -0.056630081 | H18: =+D18-F18 -> 10397.24
A19: 4.2 | B19: Dépenses | C19: Honoraires | D19: 11400 | E19: 4560 | F19: =SUMIF(Dépenses_Belgique!$A$4:$A$257,rapport_financier!A19,Dépenses_Belgique!$E$4:$E$257) -> 26128.75 | G19: =F19/D19 -> 2.2919956 | H19: =+D19-F19 -> -14728.75
A20: 4.3 | B20: Dépenses | C20: Per diem et frais d'hébergement | D20: 4116 | E20: 1646.4 | F20: =SUMIF(Dépenses_Belgique!$A$4:$A$257,rapport_financier!A20,Dépenses_Belgique!$E$4:$E$257) -> 1455.86 | G20: =F20/D20 -> 0.35370748 | H20: =+D20-F20 -> 2660.14
B21: sous-total | D21: =SUM(D18:D20) -> 25356 | E21: =SUM(E18:E20) -> 10142.4 | F21: =SUM(F18:F20) -> 27027.37 | G21: =F21/D21 -> 1.0659162 | H21: =+D21-F21 -> -1671.37
B22: 5. Personnel
A23: 5.1 | B23: Suivi-évaluation et appui de formation | C23: 1/4 ETP du chargé d'animation-communication | D23: 41594.442 | E23: 20498.29 | F23: =SUMIF(Dépenses_Belgique!$A$4:$A$257,rapport_financier!A23,Dépenses_Belgique!$E$4:$E$257) -> 56689.102 | G23: =F23/D23 -> 1.3629009 | H23: =+D23-F23 -> -15094.66
A24: 5.2 | B24: Coordination administrative et financière du projet | C24: 1/4 ETP du responsable administratif et financier | D24: 45691.804 | E24: 16928.33 | F24: =SUMIF(Dépenses_Belgique!$A$4:$A$257,rapport_financier!A24,Dépenses_Belgique!$E$4:$E$257) -> 50530.344 | G24: =F24/D24 -> 1.1058951 | H24: =+D24-F24 -> -4838.5393
B25: sous-total | D25: =SUM(D23:D24) -> 87286.246 | E25: =SUM(E23:E24) -> 37426.62 | F25: =SUM(F23:F24) -> 107219.45 | G25: =F25/D25 -> 1.2283659 | H25: =+D25-F25 -> -19933.199
C26: Dépenses Nord | D26: =D5+D12+D16+D21+D25 -> 134222.29 | E26: =E5+E12+E16+E21+E25 -> 56598.97 | F26: =F5+F12+F16+F21+F25 -> 154794.23 | G26: =F26/D26 -> 1.1532676 | H26: =H5+H12+H16+H21+H25 -> -20571.935
B27: 6. Frais du partenaire sur place
B28: Résultat à atteindre 1 | C28: La gestion locale de la communauté par le droit et la démocratie participative a été renforcée | D28: =SUM(D29:D33) -> 135520 | E28: =SUM(E29:E33) -> 94738 | F28: =SUM(F29:F33) -> 129171.29 | G28: =F28/D28 -> 0.95315297 | H28: =+D28-F28 -> 6348.7093
A29: 6,1,1 | B29: Activité 1.1 | C29: Atelier de sensibilitation et mise en place des équipes de CLGP, médiateurs et parajuristes | D29: 26605 | E29: 24099.01 | F29: =SUMIF(Dépenses_Burundi!$E$7:$E$2187,rapport_financier!A29,Dépenses_Burundi!$H$7:$H$2187) -> 23858.871 | G29: =F29/D29 -> 0.89678148 | H29: =+D29-F29 -> 2746.1287
A30: 6,1,2 | B30: Activité 1.2 | C30: Formation des CLGP sur les droits civils et politiques, le plaidoyer, les questions de redevabilité et transparence | D30: 23105 | E30: 20750.81 | F30: =SUMIF(Dépenses_Burundi!$E$7:$E$2187,rapport_financier!A30,Dépenses_Burundi!$H$7:$H$2187) -> 21594.999 | G30: =F30/D30 -> 0.93464615 | H30: =+D30-F30 -> 1510.0008
A31: 6,1,3 | B31: Activité 1.3 | C31: Formation des parajuristes sur la promotion et l’accès aux droits et les techniques d’intervention | D31: 20905 | E31: 18672.79 | F31: =SUMIF(Dépenses_Burundi!$E$7:$E$2187,rapport_financier!A31,Dépenses_Burundi!$H$7:$H$2187) -> 18661.91 | G31: =F31/D31 -> 0.89270078 | H31: =+D31-F31 -> 2243.0901
A32: 6,1,4 | B32: Activité 1.4 | C32: Formation des médiateurs sur les techniques de gestion positive des conflits | D32: 20905 | E32: 19581.97 | F32: =SUMIF(Dépenses_Burundi!$E$7:$E$2187,rapport_financier!A32,Dépenses_Burundi!$H$7:$H$2187) -> 19993.361 | G32: =F32/D32 -> 0.95639136 | H32: =+D32-F32 -> 911.63868
A33: 6,1,5 | B33: Activité 1.5 | C33: Appui et accompagnement de terrain aux équipes de CLGP, parajuristes et médiateurs | D33: 44000 | E33: 11633.42 | F33: =SUMIF(Dépenses_Burundi!$E$7:$E$2187,rapport_financier!A33,Dépenses_Burundi!$H$7:$H$2187) -> 45062.149 | G33: =F33/D33 -> 1.0241397 | H33: =+D33-F33 -> -1062.149
B34: Résultat à atteindre 2 | C34: La participation citoyenne à la gestion de la chose publique a été améliorée | D34: =D35 -> 8640 | E34: =E35 -> 307.5 | F34: =F35 -> 8096.5352 | G34: =F34/D34 -> 0.93709898 | H34: =+D34-F34 -> 543.46477
A35: 6,2,1 | B35: Activité 2.1 | C35: Sensibilisation et implication (par les groupes de para-juristes, de médiateurs ainsi que les CLGP) des populations et autorités locales aux questions de droits, participation citoyenne et de démocratie | D35: 8640 | E35: 307.5 | F35: =SUMIF(Dépenses_Burundi!$E$7:$E$2187,rapport_financier!A35,Dépenses_Burundi!$H$7:$H$2187) -> 8096.5352 | G35: =F35/D35 -> 0.93709898 | H35: =+D35-F35 -> 543.46477
B36: Résultat à atteindre 3 | C36: La mise en réseau des médiateurs, parajuristes, CLGP et des leaders sociaux et culturels a été développée | D36: =SUM(D37:D38) -> 43448 | E36: =SUM(E37:E38) -> 0 | F36: =SUM(F37:F38) -> 43837.24 | G36: =F36/D36 -> 1.0089588 | H36: =+D36-F36 -> -389.24025
A37: 6,3,1 | B37: Activité 3.1 | C37: Échange et mise en réseau entre les parajuristes, médiateurs et CLGP. Organisation de visites d’échange d’expériences sur les enjeux de démocratie | D37: 18005 | E37: 0 | F37: =SUMIF(Dépenses_Burundi!$E$7:$E$2187,rapport_financier!A37,Dépenses_Burundi!$H$7:$H$2187) -> 19663.106 | G37: =F37/D37 -> 1.0920914 | H37: =+D37-F37 -> -1658.1064
A38: 6,3,2 | B38: Activité 3.2 | C38: Échange et mise en réseau entre les leaders communautaires et religieux des provinces cibles sur les enjeux de mémoire | D38: 25443 | E38: 0 | F38: =SUMIF(Dépenses_Burundi!$E$7:$E$2187,rapport_financier!A38,Dépenses_Burundi!$H$7:$H$2187) -> 24174.134 | G38: =F38/D38 -> 0.95012907 | H38: =+D38-F38 -> 1268.8661
B39: Résultat à atteindre 4 | C39: La citoyenneté responsable, active, critique et solidaire des élèves et dans les écoles ciblées a été renforcée | D39: =D40 -> 32520 | E39: =E40 -> 0 | F39: =F40 -> 31125.955 | G39: =F39/D39 -> 0.95713269 | H39: =+D39-F39 -> 1394.045
A40: 6,4,1 | B40: Activité 4.1 | C40: Création et animation de clubs scolaires « paix et droits humains » par la CEJP dans les milieux scolaires pour vulgariser les principes démocratiques et de non-violence active | D40: 32520 | E40: 0 | F40: =SUMIF(Dépenses_Burundi!$E$7:$E$2187,rapport_financier!A40,Dépenses_Burundi!$H$7:$H$2187) -> 31125.955 | G40: =F40/D40 -> 0.95713269 | H40: =+D40-F40 -> 1394.045
B41: Résultat à atteindre 5 | C41: La production d’outil de capitalisation des connaissances et expériences a été améliorée | D41: =D42 -> 19220 | E41: =E42 -> 0 | F41: =F42 -> 14599.277 | G41: =F41/D41 -> 0.75958776 | H41: =+D41-F41 -> 4620.7232
...

Sheet Dépenses_Burundi
B2: Période du | C2: 43282 | F2: Taux Moyen Pondéré | G2: =Taux_de_change!I8 -> 2078.5941
B3: au | C3: 44377
A4: CEIP BURUNDI | B4: Tenue de compte : BIF
A6: Date | B6: Journal | C6: N° pièce | D6: Code | E6: LB | F6: Libellé | G6: BIF | H6: EUR
A7: 43387 | B7: BC0007 | C7: 5 | D7: AA070111 | E7: 6,1,1 | F7: REUNION INFOR APPROPRIATION LANCET | G7: 150000 | H7: =G7/$G$2 -> 72.164163
A8: 43388 | B8: BC0007 | C8: 32 | D8: AA070111 | E8: 6,1,1 | F8: REUNIO INFO NGOZI GITEGA | G8: 50000 | H8: =G8/$G$2 -> 24.054721
A9: 43388 | B9: BC0007 | C9: 33 | D9: AA070111 | E9: 6,1,1 | F9: REUNIO INFO NGOZI GITEGA | G9: 100000 | H9: =G9/$G$2 -> 48.109442
A10: 43419 | B10: BC0007 | C10: 35 | D10: AA070111 | E10: 6,1,1 | F10: REUNIO INFO RUYIGI | G10: 30000 | H10: =G10/$G$2 -> 14.432833
A11: 43388 | B11: BC0007 | C11: 88 | D11: AA070111 | E11: 6,1,1 | F11: REUNIO INFO APPRO BUBANZA | G11: 50000 | H11: =G11/$G$2 -> 24.054721
A12: 43388 | B12: BC0007 | C12: 36 | D12: AA070111 | E12: 6,1,1 | F12: LOCATIO VEH REUNIO INFO GIT NGOZI | G12: 280000 | H12: =G12/$G$2 -> 134.70644
A13: 43353 | B13: BC0007 | C13: 38 | D13: AA070111 | E13: 6,1,1 | F13: HONOR FACIL REUNIO INFO RUYIGI | G13: 210000 | H13: =G13/$G$2 -> 101.02983
A14: 43376 | B14: BC0007 | C14: 8 | D14: AA070111 | E14: 6,1,1 | F14: CARBURANT VEHICULE | G14: 158963 | H14: =G14/$G$2 -> 76.476212
A15: 43376 | B15: BC0007 | C15: 18 | D15: AA070111 | E15: 6,1,1 | F15: CARBURANT VEHICULE | G15: 196261 | H15: =G15/$G$2 -> 94.420072
A16: 43376 | B16: BC0007 | C16: 9 | D16: AA070111 | E16: 6,1,1 | F16: REUNION INFO APPROPRIATION RUYIGI | G16: 120000 | H16: =G16/$G$2 -> 57.73133
A17: 43376 | B17: BC0007 | C17: 10 | D17: AA070111 | E17: 6,1,1 | F17: REUNION INFO APPROPRIATION | G17: 120000 | H17: =G17/$G$2 -> 57.73133
A18: 43382 | B18: BC0007 | C18: 11 | D18: AA070111 | E18: 6,1,1 | F18: REUNION INFO APPROPRIATION | G18: 120000 | H18: =G18/$G$2 -> 57.73133
... A196: 43462 | B196: BC0007 | C196: 70 | D196: AA07014 | E196: 6,1,4 | F196: HON FORMATION MEDIATEURS | G196: 2094700 | H196: =G196/$G$2 -> 1007.7485
A197: 43326 | B197: BC0007 | C197: 155 | D197: AA0708 | E197: 6.8 | F197: PRIME DU PF BUBANZA NOV ET DEC 2018 | G197: 400000 | H197: =G197/$G$2 -> 192.43777
A198: 43326 | B198: BC0007 | C198: 7 | D198: AA0709 | E198: 6.9 | F198: REUNION DE REPLANIFICATION | G198: 300000 | H198: =G198/$G$2 -> 144.32833
A199: 43326 | B199: BC0007 | C199: 7 | D199: AA0709 | E199: 6.9 | F199: REUNION DE REPLANIFICATION | G199: 250000 | H199: =G199/$G$2 -> 120.2736
A200: 43326 | B200: BC0007 | C200: 7 | D200: AA0709 | E200: 6.9 | F200: REUNION DE REPLANIFICATION | G200: 220000 | H200: =G200/$G$2 -> 105.84077
A201: 43326 | B201: BC0007 | C201: 7 | D201: AA0709 | E201: 6.9 | F201: REUNION DE REPLANIFICATION | G201: 96000 | H201: =G201/$G$2 -> 46.185064
A202: 43326 | B202: BC0007 | C202: 7 | D202: AA0709 | E202: 6.9 | F202: REUNION DE REPLANIFICATION | G202: 450000 | H202: =G202/$G$2 -> 216.49249
A203: 43326 | B203: BC0007 | C203: 7 | D203: AA0709 | E203: 6.9 | F203: REUNION DE REPLANIFICATION | G203: 240000 | H203: =G203/$G$2 -> 115.46266
A204: 43326 | B204: BC0007 | C204: 7 | D204: AA0709 | E204: 6.9 | F204: REUNION DE REPLANIFICATION | G204: 144000 | H204: =G204/$G$2 -> 69.277596
A205: 43440 | B205: BC0007 | C205: 6 | D205: AA0709 | E205: 6.9 | F205: REUNION DE REPLANIFICATION | G205: 900000 | H205: =G205/$G$2 -> 432.98498
A206: 43462 | B206: BC0007 | C206: 117 | D206: AA07012 | E206: 6,1,2 | F206: KIT REUNION INFO MISE PLACE CLGP PA | G206: 143865 | H206: =G206/$G$2 -> 69.212649
A207: 43462 | B207: BC0007 | C207: 139 | D207: AA07012 | E207: 6,1,2 | F207: FORMATION CLGP | G207: 239955 | H207: =G207/$G$2 -> 115.44101
A208: 43462 | B208: BC0007 | C208: 140 | D208: AA07012 | E208: 6,1,2 | F208: FORMATION PARAJURISTES | G208: 199800 | H208: =G208/$G$2 -> 96.122665
A209: 43462 | B209: BC0007 | C209: 143 | D209: AA07014 | E209: 6,1,4 | F209: FORMATION MEDIATEURS | G209: 175300 | H209: =G209/$G$2 -> 84.335852
A210: 43462 | B210: BC0007 | C210: 144 | D210: AA07014 | E210: 6,1,4 | F210: FORMATION MEDIATEURS | G210: 199800 | H210: =G210/$G$2 -> 96.122665
A211: 43462 | B211: BC0007 | C211: 145 | D211: AA07014 | E211: 6,1,4 | F211: FORMATION MEDIATEURS | G211: 196300 | H211: =G211/$G$2 -> 94.438834
A212: 43312 | B212: BC0007 | C212: 146 | D212: AA07012 | E212: 6,1,2 | F212: FORMATION CLGP | G212: 80000 | H212: =G212/$G$2 -> 38.487554
A213: 43544 | B213: BC0007 | C213: 338 | D213: AA070111 | E213: 6,1,1 | F213: Location salle pour activité | G213: 60000 | H213: =G213/$G$2 -> 28.865665
A214: 43644 | B214: BC0007 | C214: 534 | D214: AA070111 | E214: 6,1,1 | F214: Location vehicule | G214: 210000 | H214: =G214/$G$2 -> 101.02983
A215: 43515 | B215: BC0007 | C215: 265 | D215: AA070111 | E215: 6,1,1 | F215: Consommation carburant novemv | G215: 64414 | H215: =G215/$G$2 -> 30.989216
A216: 43515 | B216: BC0007 | C216: 265 | D216: AA070111 | E216: 6,1,1 | F216: Consommation carburant novemv | G216: 5000 | H216: =G216/$G$2 -> 2.4054721
A217: 43514 | B217: BC0007 | C217: 256 | D217: AA070111 | E217: 6,1,1 | F217: Frais de mission a Barhtel | G217: 40000 | H217: =G217/$G$2 -> 19.243777
... A656: 43564 | B656: BC0007 | C656: 389 | D656: AA0707 | E656: 6,7,1 | F656: Frais de communication /atelier a R | G656: 120000 | H656: =G656/$G$2 -> 57.73133
A657: 43644 | B657: BC0007 | C657: 546 | D657: AA0708 | E657: 6.8 | F657: location vehicule a bubanza | G657: 140000 | H657: =G657/$G$2 -> 67.353219
...

Sheet Dépenses_Belgique
A2: Du 01/05/2018 au 30/06/2021
A3: LB | B3: N° de pièce | C3: Date | D3: Description | E3: Montant EUR
A4: 1.1 | B4: A1-212 | C4: 43635 | D4: Achat pc HPelite 800 G4 | E4: 1474.51
A5: 2.1 | B5: contrat + facture globale | C5: 43616 | D5: Loyers (1,5%) mai 2018 à mai 2019 | E5: 585
A6: 2.1 | B6: contrat + facture globale | C6: 44104 | D6: Loyers (1,5%) juin 2019 à septembre 2020 | E6: 720
A7: 2.1 | B7: contrat + facture globale | C7: 44377 | D7: Loyers (1,5%) oct 2020 à juin 2021 | E7: 405
A8: 2.2 | B8: A1-143 | C8: 43227 | D8: Fact 05.17041.002.59 Eau Déc-Avril | E8: 4.021
A9: 2.2 | B9: A1-144 | C9: 43227 | D9: Fact 05.17040.001.28 Eau Nov-Avril | E9: 2.445
A10: 2.2 | B10: A1-140 | C10: 43221 | D10: F11536247 électricté et gaz Mai | E10: 36.7495
A11: 2.2 | B11: A1-168 | C11: 43221 | D11: F11536247 électricté et gaz juin | E11: 36.7495
A12: 2.2 | B12: A1-223 | C12: 43252 | D12: F11658640 électricté et gaz juillet | E12: 36.7495
A13: 2.2 | B13: A1-229 | C13: 43313 | D13: F11893529 électricté et gaz août | E13: 36.7495
A14: 2.2 | B14: A1-260 | C14: 43344 | D14: F12011201 électricté et gaz septembre | E14: 26.7495
A15: 2.2 | B15: A1-287 | C15: 43376 | D15: F12128723 électricité et gaz octobre | E15: 33.2505
... A147: 4.3 | B147: A2-NF31 | C147: 44387 | D147: Anti malaria | E147: 41
A148: 5.2 | C148: 43244 | D148: fiche de paie mai 2018 Chantal BION (administration-secrétariat) | E148: 1942.5026
A149: 5.2 | C149: 43276 | D149: fiche de paie juin 2018 Chantal BION (administration-secrétariat) | E149: 1016.8837
A150: 5.2 | C150: 43305 | D150: fiche de paie juillet 2018 Chantal BION (administration-secrétariat) | E150: 1014.4122
A151: 5.2 | C151: 43335 | D151: fiche de paie août 2018 Chantal BION (administration-secrétariat) | E151: 1017.4581
A152: 5.2 | C152: 43367 | D152: fiche de paie septembre 2018 Chantal BION (administration-secrétariat) | E152: 1017.4498
A153: 5.2 | C153: 43395 | D153: fiche de paie octobre 2018 Chantal BION (administration-secrétariat) | E153: 1039.0254
A154: 5.2 | C154: 43427 | D154: fiche de paie novembre 2018 Chantal BION (administration-secrétariat) | E154: 1037.3381
A155: 5.2 | C155: 43447 | D155: fiche de paie décembre 2018 Chantal BION (administration-secrétariat) | E155: 2068.5927
A156: 5.1 | C156: 43244 | D156: fiche de paie mai 2018 Clara DEBEVE (chargée du projet) | E156: 1213.8048
A157: 5.1 | C157: 43276 | D157: fiche de paie juin 2018 Clara DEBEVE (chargée du projet) | E157: 967.53328
A158: 5.1 | C158: 43305 | D158: fiche de paie juillet 2018 Clara DEBEVE (chargée du projet) | E158: 968.41554
A159: 5.1 | C159: 43335 | D159: fiche de paie août 2018 Clara DEBEVE (chargée du projet) | E159: 968.39419
... A251: 5.1 | C251: 44371 | D251: fiche de paie juin 2021 Pauline LAIGNEAUX (chargée de comm) | E251: 416.353
A252: 5.2 | C252: 44221 | D252: fiche de paie janvier 2021 Chantal BION (administration-secrétariat) | E252: =765.06*3.5 -> 2677.71
A253: 5.2 | C253: 44251 | D253: fiche de paie février 2021 Chantal BION (administration-secrétariat) | E253: =764.896*3.5 -> 2677.136
A254: 5.2 | C254: 44279 | D254: fiche de paie mars 2021 Chantal BION (administration-secrétariat) | E254: =765.928*3.5 -> 2680.748
A255: 5.2 | C255: 44312 | D255: fiche de paie avril 2021 Chantal BION (administration-secrétariat) | E255: =765.414*3.5 -> 2678.949
A256: 5.2 | C256: 44342 | D256: fiche de paie mai 2021 Chantal BION (administration-secrétariat) | E256: =1460.354*3.5 -> 5111.239
A257: 5.2 | C257: 44371 | D257: fiche de paie juin 2021 Chantal BION (administration-secrétariat) | E257: =775.67*3.5 -> 2714.845
E258: =SUM(E4:E257) -> 154794.23

Sheet Taux_de_change
E2: Montant envoyé Belgique | F2: Montant reçu Burundi | G2: Frais bancaires | H2: Montant reçu Burundi | I2: Taux Moyen Pondéré | J2: Date réception
E3: EUR | F3: EUR | G3: EUR | H3: BIF
B5: 43286 | C5: 1er transfert | E5: 207414.3 | F5: 207232.8 | G5: 181.5 | H5: 430550906 | I5: =H5/E5 -> 2075.8015 | J5: 43289
B6: 43880 | C6: 2e transfert | E6: 207414.3 | F6: 207232.8 | G6: 181.5 | H6: 419633178 | I6: =H6/E6 -> 2023.1642 | J6: 43881
B7: 44274 | C7: 3e transfert | E7: 51808 | F7: 51666.72 | G7: 141.28 | H7: 119763979 | I7: =H7/E7 -> 2311.6889 | J7: 44278
C8: total transferts | E8: =SUM(E5:E7) -> 466636.6 | H8: =SUM(H5:H7) -> 969948063 | I8: =H8/E8 -> 2078.5941
