Workbook
Name ACTEC: sel_list_co!$F$29:$F$39
Name ACVCSCi: sel_list_co!$G$29:$G$31
Name ADAZOA: sel_list_co!$H$29
Name AFRICALIA: sel_list_co!$I$29:$I$35
Name APEFE: sel_list_co!$J$29:$J$43
Name APOPO: sel_list_co!$K$29:$K$32
Name ARES: sel_list_co!$L$29:$L$35
Name ASF: sel_list_co!$M$29:$M$35
Name AutreTerre: sel_list_co!$N$29:$N$34
Name AZVMSV: sel_list_co!$O$29:$O$32
Name BD: sel_list_co!$P$29:$P$42
Name BOStropen: sel_list_co!$Q$29:$Q$34
Name BRULOCALIS: sel_list_co!$R$29:$R$31
Name CARITAS: sel_list_co!$S$29:$S$35
Name CDE: sel_list_co!$T$29:$T$33
Name CEC: sel_list_co!$U$29:$U$30
Name CETRI: sel_list_co!$V$29:$V$31
Name CJP: sel_list_co!$W$29
Name CNCD: sel_list_co!$X$29:$X$32
Name CO_van_actor: 'Overall score'!$B$3
Name CONGODORPEN: sel_list_co!$Y$29:$Y$30
Name CRB: sel_list_co!$Z$29:$Z$36
Name CSA: sel_list_co!$AA$29:$AA$32
Name DBA: sel_list_co!$AB$29:$AB$31
Name DJAPO: sel_list_co!$AC$29
Name DYNAMO: sel_list_co!$AD$29:$AD$31
Name DZG: sel_list_co!$AE$29:$AE$37
Name ECHOS: sel_list_co!$AF$29:$AF$31
Name Eclosio: sel_list_co!$AG$29:$AG$36
Name EF: sel_list_co!$AH$29:$AH$37
Name elfelf: sel_list_co!$E$29:$E$41
Name ETMKDW: sel_list_co!$AI$29:$AI$30
Name FairtradeBelgium: sel_list_co!$AJ$29
Name FdH: sel_list_co!$AK$29:$AK$31
Name FIANBelgium: sel_list_co!$AL$29
Name FonDam: sel_list_co!$AM$29:$AM$35
Name FOS: sel_list_co!$AN$29:$AN$32
Name FUCID: sel_list_co!$AO$29:$AO$30
Name GEOMOUN: sel_list_co!$AP$29:$AP$31
Name HIB: sel_list_co!$AQ$29:$AQ$36
Name IdP: sel_list_co!$AR$29:$AR$35
Name IFSIISVI: sel_list_co!$AS$29:$AS$34
Name IMTITG: sel_list_co!$AT$29:$AT$44
Name IPIS: sel_list_co!$AU$29:$AU$31
Name ITECO: sel_list_co!$AV$29
Name JoinForWater: sel_list_co!$AW$29:$AW$38
Name KIYO: sel_list_co!$AX$29:$AX$33
Name lang: Introduction!$J$5
Name LFTW: sel_list_co!$AY$29:$AY$31
Name LHAC: sel_list_co!$AZ$29
Name LouvCoop: sel_list_co!$BA$29:$BA$46
Name MdMDvW: sel_list_co!$BB$29:$BB$37
Name MEMISA: sel_list_co!$BC$29:$BC$35
Name MMH: sel_list_co!$BD$29:$BD$31
Name MSFem: sel_list_co!$BE$29:$BE$34
Name MSIBIS: sel_list_co!$BF$29
Name OxfamMM: sel_list_co!$BG$29:$BG$31
Name OxfamSol: sel_list_co!$BH$29:$BH$36
Name OxfamWW: sel_list_co!$BI$29:$BI$30
Name PLANBELGIUM: sel_list_co!$BJ$29:$BJ$36

Sheet Introduction
A1: Cliquez pour choisir la langue >>> Klik op de gele cel rechts en kies de taal >>> | C1: FR | D1: <<< Haga clic en la celda amarilla de la izquierda para ajustar el idioma. <<< Select the yellow cell at the left to change the language. | I1: FR | J1: 1 | L1: 8 | M1: TRUE | N1: 11 | O1: FALSE | P1: 135 | Q1: FALSE
A2: =IF(lang=3,values!D4,IF(lang=1,values!N4,IF(lang=2,values!X4,IF(lang=4,values!AH4,"set lang!")))) -> Système de mesure de la performance – rapportage par les acteurs de la coopération non gouvernementale | F2: Haga clic en la celda amarilla de la izquierda para ajustar el idioma. | I2: NL | J2: 2 | L2: =L1+N1+P1 -> 154
A3: =IF(lang=3,values!D5,IF(lang=1,values!N5,IF(lang=2,values!X5,IF(lang=4,values!AH5,"set lang!")))) -> 1. Généralités | F3: Haga clic en la celda amarilla de la izquierda y elija la lengua deseada. | I3: EN | J3: 3 | L3: {=CELL("width",A1)} -> 10 | M3: FALSE | N3: {=CELL("width",B1)} -> 36 | O3: FALSE | P3: {=CELL("width",C1)} -> 24 | Q3: FALSE | R3: {=CELL("width",D1)} -> 74 | S3: FALSE
A4: =IF(lang=3,values!D6,IF(lang=1,values!N6,IF(lang=2,values!X6,IF(lang=4,values!AH6,"set lang!")))) -> Le système de mesure de la performance est l'un des outils de la reddition morale annuelle de comptes (rapportage narratif) sur les programmes approuvés pour la période 2022-2026 des acteurs de la coopération non gouvernementale. L’objectif de ce système de mesure de la performance est que chaque acteur non gouvernemental apprécie, au moyen d'une auto-évaluation, comment ont été exécutés, au cours de l'année écoulée, les multiples interventions/outcomes (compris ici au sens d’objectifs spécifiques) des programmes cofinancés par la DGD. Le rapport moral complet doit être remis annuellement au plus tard le 30 juin. Le rapport final complet sera soumis à l'administration au plus tard six mois après la date de fin du programme. Le rapport final sur une intervention / un outcome (scores de performance et leçons tirées) est attendu l'année qui suit l'achèvement de l'outcome et des dernières dépenses associées, également six mois au plus tard après la date de fin de l'intervention/outcome. Si l'intervention/outcome s'achève plus tôt que le programme dans son ensemble, il faut donc également soumettre ce rapport plus tôt. Le rapport final comprend les scores de performance détaillés, les rapports d’évaluation finaux (ainsi que la réponse de la direction) et les principales leçons tirées de la mise en œuvre intégrale du programme. Les scores de performance de la dernière année doivent détailler certains aspects supplémentaires afin de former, couplés aux évaluations et aux leçons tirées, un rapport final complet conforme à la législation (voir ci-dessous). Ce système s’inspire en partie du Système MoRe Results d'Enabel et du système ROM (Results Oriented Monitoring - Monitoring orienté vers les résultats) de la Commission européenne. | I4: SP | J4: 4 | L4: =L3+N3+P3+R3 -> 144
A5: =IF(lang=3,values!D7,IF(lang=1,values!N7,IF(lang=2,values!X7,IF(lang=4,values!AH7,"set lang!")))) -> 2. Terminologie | J5: =VLOOKUP(C1,$I$1:$J$4,2,FALSE) -> 1
A6: =IF(lang=3,values!D8,IF(lang=1,values!N8,IF(lang=2,values!X8,IF(lang=4,values!AH8,"set lang!")))) -> Pour éviter toute confusion, voici une définition des termes utilisés et un schéma clarifiant leur interaction dans la chaîne de résultats : - « L'objectif spécifique » dans le programme de la DGD correspond à l’outcome. Les termes « d’objectif spécifique », « d’outcome » et « d’intervention » utilisés ici ont la même signification et sont interchangeables. Le mot « intervention» met souvent l'accent sur le processus visant à atteindre l'objectif, tandis que « outcome » désigne généralement le résultat de ce processus. - Les « résultats » dans le programme de la DGD sont l'équivalent des outputs. - Les termes tels que « Nord » et « Sud » sont remplacés par « Belgique » et « pays d'intervention ». Les « outcomes dans le Nord » deviennent dès lors les « outcomes en Belgique » et les « outcomes dans le Sud » deviennent les « outcomes dans les pays d'intervention ». - Le terme « bénéficiaire » est encore employé dans ce document, bien qu'il se heurte à des limites. En effet, ce terme est souvent interprété dans le sens d'un facteur externe avec une attitude passive (ceux qui reçoivent l'aide des donateurs). D'une certaine façon, cette notion exclut les donateurs, qui pourtant tirent aussi avantage des interventions (expérience, financement...). Le terme ne met pas suffisamment en évidence l'idée d'une collaboration totale entre partenaires au service d'objectifs communs. Toutefois, nous avons choisi de continuer à employer ce terme dans un souci de cohérence vis-à-vis de l'usage international mais aussi des informations contenues dans le programme, pour ne pas créer de confusion supplémentaire quant à la signification possible de termes plus récents. En attendant qu'une notion plus claire, admise et reconnue se dégage, nous écrirons le terme « bénéficiaire» en italique.
A14: =IF(lang=3,values!D16,IF(lang=1,values!N16,IF(lang=2,values!X16,IF(lang=4,values!AH16,"set lang!")))) -> 3. Comment fonctionne le système de mesure de la performance ?
A15: =IF(lang=3,values!D17,IF(lang=1,values!N17,IF(lang=2,values!X17,IF(lang=4,values!AH17,"set lang!")))) -> Le rapportage se fait annuellement. Les scores pour l’année X sont remis au plus tard le 30 juin de l’année X+1 (cf. échéances fixées dans l'AR). L’attribution des scores suit une échelle de 4 points (A-B-C-D) dotée d'un code couleur (« système des feux tricolores »).
A17: =IF(lang=3,values!D19,IF(lang=1,values!N19,IF(lang=2,values!X19,IF(lang=4,values!AH19,"set lang!")))) -> Score | B17: =IF(lang=3,values!D49,IF(lang=1,values!N49,IF(lang=2,values!X49,IF(lang=4,values!AH49,"set lang!")))) -> Qualification | C17: =IF(lang=3,values!D79,IF(lang=1,values!N79,IF(lang=2,values!X79,IF(lang=4,values!AH79,"set lang!")))) -> Interprétation
A18: A | B18: =IF(lang=3,values!D50,IF(lang=1,values!N50,IF(lang=2,values!X50,IF(lang=4,values!AH50,"set lang!")))) -> Très bien | C18: =IF(lang=3,values!D80,IF(lang=1,values!N80,IF(lang=2,values!X80,IF(lang=4,values!AH80,"set lang!")))) -> L'intervention se déroule comme espéré. Elle constitue potentiellement une référence en matière de bonnes pratiques. Interprétation du rapport final : l'intervention s'est déroulée comme espéré et peut servir de référence en matière de bonnes pratiques. Les leçons tirées doivent servir à des interventions analogues à l'avenir.
A19: B | B19: =IF(lang=3,values!D51,IF(lang=1,values!N51,IF(lang=2,values!X51,IF(lang=4,values!AH51,"set lang!")))) -> Bien | C19: =IF(lang=3,values!D81,IF(lang=1,values!N81,IF(lang=2,values!X81,IF(lang=4,values!AH81,"set lang!")))) -> L'intervention se déroule en grande partie comme espéré. De petits ajustements s'avèrent nécessaires, mais sont sous contrôle. Ils ont déjà été appliqués, sont en cours ou ont été intégrés au planning de l’intervention. Ces ajustements mineurs ne requièrent pas de concertation avec la DGD. Interprétation du rapport final : l'intervention s'est déroulée en grande partie comme espéré, bien que le monitoring ait mis en évidence la nécessité de petits ajustements en cours d'intervention. Tout n'a pas pu être réalisé selon le plan. Les leçons tirées doivent servir à des interventions analogues à l'avenir.
A20: C | B20: =IF(lang=3,values!D52,IF(lang=1,values!N52,IF(lang=2,values!X52,IF(lang=4,values!AH52,"set lang!")))) -> Problèmes | C20: =IF(lang=3,values!D82,IF(lang=1,values!N82,IF(lang=2,values!X82,IF(lang=4,values!AH82,"set lang!")))) -> Certains problèmes doivent être traités pour éviter des répercussions négatives sur le fonctionnement global de l’intervention. Une concertation avec la DGD est nécessaire. Interprétation du rapport final : d'importants ajustements ont dû être apportés à l'intervention, qui n'a été que partiellement réalisée. Les leçons tirées doivent servir à des interventions analogues à l'avenir.
A21: D | B21: =IF(lang=3,values!D53,IF(lang=1,values!N53,IF(lang=2,values!X53,IF(lang=4,values!AH53,"set lang!")))) -> Déficits graves | C21: =IF(lang=3,values!D83,IF(lang=1,values!N83,IF(lang=2,values!X83,IF(lang=4,values!AH83,"set lang!")))) -> L'ampleur des déficits mentionnés est telle que, si l’on n’y remédie pas, l’intervention échouera. Des changements drastiques sont nécessaires. Une concertation avec la DGD se révèle indispensable. Interprétation du rapport final : des ajustements majeurs ont dû être apportés au cours de l'intervention. L'outcome a été insuffisamment réalisé. Une réflexion de fond quant à des interventions analogues à l'avenir s'impose.
A23: =IF(lang=3,values!D25,IF(lang=1,values!N25,IF(lang=2,values!X25,IF(lang=4,values!AH25,"set lang!")))) -> Le système de mesure de la performance repose sur 7 critères, chacun comprenant une ou plusieurs sous-questions (12 au total). Ces critères s'inspirent de ceux du CAD de l’OCDE (efficience, efficacité, pertinence, durabilité potentielle, cohérence), complétés par les critères « genre » et « environnement ». Ces critères valent aussi bien pour les interventions internationales que pour les interventions menées en Belgique. Chacune des questions doit être évaluée annuellement sur l’échelle de 4 points. Les scores attribués doivent faire l'objet d'une brève explication. Pour des scores C ou D, le commentaire explicatif doit clairement mettre en évidence les causes du problème et les mesures correctives prises pour y répondre (AR Art. 45 §1). Tous les scores sont donnés par les acteurs eux-mêmes, au travers d’une auto-évaluation. Au cours de la dernière année, les scores de performance sont également considérés comme des rapports finaux (avec les leçons tirées, l'IITA, l'évaluation et le rapport financier) et on attend des commentaires qu'ils livrent davantage d'informations, conformément à l'article 45 § 2 de l'AR du 11 septembre 2016. L'interprétation des scores attribués devra alors être lue dans l'optique d'un rapportage final. En outre, le rapport final devra consacrer une attention plus particulière à un certain nombre de critères, notamment : * Efficacité : une synthèse de la réalisation des résultats de développement sur la durée totale du programme, consistant en une comparaison entre la baseline de référence, les résultats prévus et les indicateurs de résultats obtenus à la fin du programme, accompagnée d'une explication sur les résultats divergents. Ce commentaire narratif obligatoire pourra être rédigé en 2.1 ou 2.2. * Cohérence : une analyse de la contribution du programme à la réalisation des objectifs stratégiques du CSC qu'il vise et/ou des CSC relatifs au lieu de l'intervention. Si l'outcome ne fait pas partie d'un CSC, ce critère doit essentiellement s'orienter vers une analyse des synergies et de la complémentarité dans le pays. Pour les outcomes qui font partie d'un CSC, le commentaire narratif obligatoire doit être donné en 5.1. Pour les outcomes qui ne font pas partie d'un CSC, le commentaire narratif obligatoire sera rédigé au point 5.2. * Durabilité : Pour avoir une idée de la durabilité d'un outcome, il est conseillé de développer davantage ce critère dans le rapport final. Il peut s'agir de la durabilité financière (4.1), sociale (partenariats/engagement) (4.2) ou technique (4.3).
A25: =IF(lang=3,values!D27,IF(lang=1,values!N27,IF(lang=2,values!X27,IF(lang=4,values!AH27,"set lang!")))) -> 4. Le système de mesure de la performance dans la pratique
A26: =IF(lang=3,values!D28,IF(lang=1,values!N28,IF(lang=2,values!X28,IF(lang=4,values!AH28,"set lang!")))) -> Le rôle des organisations partenaires n’a pas été décrit explicitement dans les critères d’évaluation car il peut varier selon le type de partenariat et ne sera donc pas le même pour tous les acteurs. Le principe général est que les partenaires livrent d’une part l’information (ou des éléments d’information) pour l’appréciation, et qu’elle soit ensuite discutée en concertation. D’autre part, cette mesure de la performance permet aussi aux acteurs concernés de signaler qu’un certain critère ne peut pas être apprécié positivement à cause d’un problème au niveau du partenaire ou qu’au contraire, un critère obtient un très bon score grâce à la plus-value du partenaire. En d'autres termes, l'évaluation et l'élaboration des programmes s'inscrivent toujours dans le cadre d'une collaboration équitable. Tous les scores sont donnés sur la base de l’information contenue dans le système de M&É de l’acteur. Dans le programme, chaque acteur devait formuler les indicateurs au niveau de l’objectif spécifique pour les années 3 et 5. Pour répondre aux questions concernant l’atteinte de l’objectif spécifique en année 1, 2 et 4, il faut donc estimer les chances d’atteindre les indicateurs prévus en année 3 et 5 : « Dans quelle mesure mon intervention progresse-t-elle de manière à atteindre les indicateurs prévus ? » S'il ressort de l'évaluation annuelle que les indicateurs n'ont pas été correctement posés au départ, il est possible de les modifier en concertation avec la DGD.
A27: =IF(lang=3,values!D29,IF(lang=1,values!N29,IF(lang=2,values!X29,IF(lang=4,values!AH29,"set lang!")))) -> 5. Utilisation des données par la DGD
A28: =IF(lang=3,values!D30,IF(lang=1,values!N30,IF(lang=2,values!X30,IF(lang=4,values!AH30,"set lang!")))) -> Les données de cette fiche seront d’abord utilisées pour le suivi des interventions subsidiées et feront l'objet de dialogues institutionnels et stratégiques avec la DGD (DGéo/postes). Ces analyses pourront éventuellement nourrir la stratégie de la DGD, mais peut-être aussi les processus d’évaluation du Service de l’Évaluation spéciale. La comparaison entre les scores des interventions sera établie au niveau des critères (pertinence, efficacité...), car ce niveau permet de mettre en parallèle les différents secteurs et canaux, sur une base relativement simple, sans toucher à la diversité sous-jacente à ces critères, sachant que l'interprétation d’un critère via des sous-critères peut varier fortement selon le type d’acteur. L’agrégation des critères suit la logique suivante : - 1 score B et les autres scores supérieurs = score final A - Au moins 2 scores B (et les autres scores supérieurs) = score final B - Au moins 1 score C = score final C - Au moins 1 score D = score final D L'intention n'est pas d'essayer délibérément d’éviter les scores « problématiques ». Si un mauvais score s'accompagne d'une bonne explication et que des mesures peuvent être proposées pour l'améliorer, ce mauvais score se trouve alors non seulement explicable, mais aussi acceptable ! La transparence à ce sujet est indispensable.
A29: =IF(lang=3,values!D31,IF(lang=1,values!N31,IF(lang=2,values!X31,IF(lang=4,values!AH31,"set lang!")))) -> 6. Annexe concernant les leçons tirées (format Word)
A30: =IF(lang=3,values!D32,IF(lang=1,values!N32,IF(lang=2,values!X32,IF(lang=4,values!AH32,"set lang!")))) -> Outre le système de mesure de la performance, le rapport moral rend également compte des « leçons tirées ». Cette rubrique doit elle aussi être transmise annuellement pour chaque outcome. Le contenu de cette rubrique dépendra des leçons qui auront été tirées de l'outcome en question, au cours de l'année concernée. Il s'agit d'une réflexion opérationnelle ou stratégique, indépendante de l'analyse des scores de performance. Les informations reprises dans la rubrique des leçons tirées peuvent certes recouper en partie le commentaire narratif accompagnant les scores de performance spécifiques, mais elles peuvent assurément fournir des renseignements complémentaires. Les leçons tirées doivent être rédigées de façon à être comprises par des personnes qui ne connaissent pas le détail du programme. Le but est de les partager avec d'autres acteurs œuvrant dans le même pays ou le même domaine, de façon à échanger mais aussi conserver les bonnes et les moins bonnes expériences. Les leçons tirées seront dès lors placées sur l'extranet CSC/pays, où elles seront consultables par tous les ACNG concernés. Pour cette rubrique « leçons tirées », le format du document est libre, comme le contenu. L’organisation peut s’inspirer des quelques thématiques suivantes, qui peuvent être intéressantes à partager : participation des partenaires, liens avec les CSC thématiques, priorités politiques, évaluation, intégrité, travail sous risques (shrinking space, sécurité...), méthodologies, etc. La longueur du document ne doit pas dépasser 2 pages par outcome. Le manuel reprend de bons exemples de formats. Contrairement aux scores de performance qui ne seront accessibles qu’aux membres de la DGD sur l’extranet, la rubrique « leçons tirées » sera partagée avec les autres membres du CSC dont l’outcome concerné fait partie, afin de pouvoir mener sur le sujet une analyse/discussion conjointe. Les leçons tirées finales ne consistent pas en une description, mais en une analyse de ce qui a fonctionné et de ce qui n’a pas fonctionné en termes d’organisation, de gestion, de stratégie (notamment en matière de théorie du changement) et d’exécution d’un outcome. Si les acteurs actifs dans un pays/CSC le jugent utile, il peut être décidé de commun accord d’inclure certains thèmes dans les leçons finales, de façon à mutualiser les enseignements. Les leçons tirées visent à enrichir les dialogues stratégiques ou les moments de concertation sur les pays, et ainsi à accroître l’impact des actions et à bénéficier d'un apprentissage mutuel pour le futur.

Sheet Overall score
A1: =IF(lang=3,values!D94,IF(lang=1,values!N94,IF(lang=2,values!X94,IF(lang=4,values!AH94,"set lang!")))) -> Nom de l'acteur | B1: MEMISA | C1: =IF(Introduction!$C$1="FR",J1,IF(Introduction!$C$1="EN",D1,IF(Introduction!$C$1="SP",M1,IF(Introduction!$C$1="NL",O1,"")))) -> Sélectionnez la cellule jaune à gauche (B1), cliquez sur la flèche | D1: Select the yellow cell B1 to the left, click on the arrow | F1: =IF(B1="","",VLOOKUP(B1,sel_list_co!$A$3:$C$86,3,FALSE)) -> MEMISA | J1: Sélectionnez la cellule jaune à gauche (B1), cliquez sur la flèche | M1: Seleccionar la celda amarilla B1 a la derecha, hacer clic en la flecha | O1: Klik op de gele cel links (B1), en vervolgens op het pijltje dat
B2: =IF(B1="","",HLOOKUP(B1,sel_list_co!$E$1:$CJ$3,3,FALSE)) -> NGO Memisa België (Medische Missie samenwerking) - MEMISA | C2: =IF(Introduction!$C$1="FR",J2,IF(Introduction!$C$1="EN",D2,IF(Introduction!$C$1="SP",M2,IF(Introduction!$C$1="NL",O2,"")))) -> qui apparaît à côté de la cellule, et sélectionnez l'acteur. | D2: that appears next to the cell, and select the actor. | F2: =IF(B3="","",RIGHT(CO_van_actor,4)) -> 087) | J2: qui apparaît à côté de la cellule, et sélectionnez l'acteur. | M2: que aparece junto a la celda, y seleccionar el actor. | O2: dan verschijnt, selecteer de organisatie uit de lijst.
A3: =IF(lang=3,values!D96,IF(lang=1,values!N96,IF(lang=2,values!X96,IF(lang=4,values!AH96,"set lang!")))) -> Outcome | B3: programme « Equité de genre en santé au Sud-Kivu » (PO 450078087) | C3: =IF(Introduction!$C$1="FR",J3,IF(Introduction!$C$1="EN",D3,IF(Introduction!$C$1="SP",M3,IF(Introduction!$C$1="NL",O3,"")))) -> Sélectionnez ensuite la cellule jaune B3, cliquez sur la flèche qui apparaît à côté de la cellule, faites défiler vers le haut si nécessaire, et choisissez le "outcome" dans la liste. | D3: Then select the yellow cell B3 to the left, click on the arrow that appears next to the cell, scroll down as needed, and select the outcome from the list. | J3: Sélectionnez ensuite la cellule jaune B3, cliquez sur la flèche qui apparaît à côté de la cellule, faites défiler vers le haut si nécessaire, et choisissez le "outcome" dans la liste. | M3: A continuación, seleccionar la celda amarilla B3 de la derecha, Haga clic en la flecha que aparece junto a la celda, Desplácese hacia arriba si es necesario, y elija el resultado de la lista. | O3: Klik daarna op de cel B3, en opnieuw op het pijltje dat verschijnt, en selecteer de gepaste outcome uit de lijst.
D4: EN | E4: Please select actor and outcome in cells B1 and B3 | J4: on sheet "Overall score"
A5: =IF(lang=3,values!D98,IF(lang=1,values!N98,IF(lang=2,values!X98,IF(lang=4,values!AH98,"set lang!")))) -> SCORE GLOBAL | C5: =IF(lang=3,values!D158,IF(lang=1,values!N158,IF(lang=2,values!X158,IF(lang=4,values!AH158,"set lang!")))) -> SCORE | D5: NL | E5: Vul a.u.b. de gele cellen in: actor en outcome in | J5: op werkblad "Overall score"
D6: FR | E6: Veuillez bien remplir les cellules en jaune (acteur et "outcome") | J6: sur la feuille "Overall score"
A7: =IF(lang=3,values!D100,IF(lang=1,values!N100,IF(lang=2,values!X100,IF(lang=4,values!AH100,"set lang!")))) -> 1. SCORE GLOBAL EFFICIENCE | C7: ='1. Efficiency'!C2 -> A | D7: SP | E7: Por favor, seleccione actor y resultado en las celdas B1 y B3 | J7: en la hoja "Overall score".
A8: =IF(lang=3,values!D101,IF(lang=1,values!N101,IF(lang=2,values!X101,IF(lang=4,values!AH101,"set lang!")))) -> 2. SCORE GLOBAL EFFICACITÉ | C8: ='2. Effectiveness'!C2 -> A
A9: =IF(lang=3,values!D102,IF(lang=1,values!N102,IF(lang=2,values!X102,IF(lang=4,values!AH102,"set lang!")))) -> 3. SCORE GLOBAL PERTINENCE | C9: ='3. Relevance'!C2 -> A
A10: =IF(lang=3,values!D103,IF(lang=1,values!N103,IF(lang=2,values!X103,IF(lang=4,values!AH103,"set lang!")))) -> 4. SCORE GLOBAL DURABILITÉ | C10: ='4. Potential sustainability'!C2 -> A
A11: =IF(lang=3,values!D104,IF(lang=1,values!N104,IF(lang=2,values!X104,IF(lang=4,values!AH104,"set lang!")))) -> 5. SCORE GLOBAL COHÉRENCE | C11: ='5. Coherence'!C2 -> -
A12: =IF(lang=3,values!D105,IF(lang=1,values!N105,IF(lang=2,values!X105,IF(lang=4,values!AH105,"set lang!")))) -> 6. SCORE GLOBAL GENRE | C12: ='6. Transversal theme of gender'!C2 -> A
A13: =IF(lang=3,values!D106,IF(lang=1,values!N106,IF(lang=2,values!X106,IF(lang=4,values!AH106,"set lang!")))) -> 7. SCORE GLOBAL ENVIRONNEMENT | C13: ='7. Transv. theme of environment'!C2 -> A

Sheet 1. Efficiency
A1: =IF(lang=3,values!D184,IF(lang=1,values!N184,IF(lang=2,values!X184,IF(lang=4,values!AH184,"set lang!")))) -> 1. EFFICIENCE DE LA MISE EN ŒUVRE JUSQU'À CE JOUR : la mesure dans laquelle les ressources de l'intervention (fonds, expertise, temps, etc.) ont été converties en outputs de manière efficiente et dans les délais impartis. | C1: =IF(lang=3,values!D244,IF(lang=1,values!N244,IF(lang=2,values!X244,IF(lang=4,values!AH244,"set lang!")))) -> SCORE
A2: =IF(lang=3,values!D185,IF(lang=1,values!N185,IF(lang=2,values!X185,IF(lang=4,values!AH185,"set lang!")))) -> SCORE GLOBAL EFFICIENCE | C2: =IF(CO_van_actor="",VLOOKUP(Introduction!$C$1,'Overall score'!$D$4:$E$7,2,FALSE),IF(COUNTIF(C$4:C$18,"-")>0,"-",IF(COUNTIF(C$4:C$18,"D")>0,"D",IF(COUNTIF(C$4:C$18,"C")>0,"C",IF(COUNTIF(C$4:C$18,"B")>1,"B","A"))))) -> A
A3: =IF(lang=3,values!D186,IF(lang=1,values!N186,IF(lang=2,values!X186,IF(lang=4,values!AH186,"set lang!")))) -> Interprétation du critère de l'efficience : L'efficience est traitée ici de deux manières : 1) Le rapport inputs/outputs : les ressources utilisées offrent le meilleur rapport "coût-bénéfice" pour atteindre les outputs prédéfinis. Pour les coûts, il est fait référence au budget tel qu'approuvé par la DGD. 2) La ponctualité de l'obtention des outputs : les activités se déroulent comme prévu et les outputs seront atteints dans les délais impartis. Le choix de l'approche n'est pas apprécié ici. Cet aspect est évalué sous le critère de la pertinence. | C3: =IF(CO_van_actor="",VLOOKUP(Introduction!$C$1,'Overall score'!$D$4:$J$7,7,FALSE),"")
A4: =IF(lang=3,values!D187,IF(lang=1,values!N187,IF(lang=2,values!X187,IF(lang=4,values!AH187,"set lang!")))) -> 1.1 Dans quelle mesure les inputs sont-ils gérés de manière efficiente en termes de coûts ? | C4: A
A5: A | B5: =IF(lang=3,values!D218,IF(lang=1,values!N218,IF(lang=2,values!X218,IF(lang=4,values!AH218,"set lang!")))) -> Les outputs seront obtenus avec la combinaison la plus avantageuse d'inputs (comme prévu dans le budget approuvé par la DGD). Interprétation du rapport final : les outputs ont été obtenus avec la combinaison la plus avantageuse d'inputs (comme prévu dans le budget approuvé par la DGD).
A6: B | B6: =IF(lang=3,values!D219,IF(lang=1,values!N219,IF(lang=2,values!X219,IF(lang=4,values!AH219,"set lang!")))) -> De petits changements concernant les inputs déployés peuvent encore optimiser davantage le processus et permettre d'obtenir un rapport "coût-bénéfice" encore meilleur (par rapport au budget prévu et approuvé par la DGD). Ces ajustements sont réalisés dans le cadre de l'intervention. Interprétation du rapport final : de petits changements concernant les inputs utilisés ont permis d'optimiser le processus. La plupart des ajustements ont été effectués dans le cadre de l'intervention. Les leçons tirées doivent servir à des interventions analogues à l'avenir.
A7: C | B7: =IF(lang=3,values!D220,IF(lang=1,values!N220,IF(lang=2,values!X220,IF(lang=4,values!AH220,"set lang!")))) -> Des ajustements majeurs doivent être effectués pour assurer le rapport coût-efficience des inputs déployés, comme prévu dans le budget approuvé par la DGD. De tels ajustements sont possibles mais nécessitent une attention immédiate. Interprétation du rapport final : des ajustements majeurs ont dû être effectués pour assurer le rapport coût-efficience des inputs déployés, comme prévu dans le budget approuvé par la DGD. Les leçons tirées doivent servir à des interventions analogues à l'avenir.
A8: D | B8: =IF(lang=3,values!D221,IF(lang=1,values!N221,IF(lang=2,values!X221,IF(lang=4,values!AH221,"set lang!")))) -> Le rapport coût-efficience des inputs déployés est critique et conduira au fait que les outputs prédéfinis ne peuvent plus être atteints avec les ressources prévues. Une nouvelle estimation complète est nécessaire afin de déterminer si les outputs peuvent encore être atteints. Interprétation du rapport final : le rapport coût-efficience des inputs déployés était critique et a conduit au fait que les outputs prédéfinis ne pouvaient plus être atteints avec les ressources prévues. Une réflexion de fond quant à des interventions analogues à l'avenir s'impose.
A9: =IF(lang=3,values!D192,IF(lang=1,values!N192,IF(lang=2,values!X192,IF(lang=4,values!AH192,"set lang!")))) -> COMMENTAIRES
A10: Les activités prévues ont été menées à bien dans les délais fixés et en respectant les limites budgétaires. De plus, le budget a été progressivement ajusté pour répondre à de nouveaux besoins émergents, tels que la gestion des infections sexuellement transmissibles dans les centres de santé ou encore les dialogues communautaires. Ces ajustements ont permis d'intégrer des activités qui n'étaient pas initialement prévues dans le projet, afin de répondre aux besoins en constante évolution. Cet effort visait à garantir l'adéquation entre l'offre et la demande de soins, contribuant ainsi au succès du projet ou à son élargissement initial en termes de bénéficiaires.
A11: =IF(lang=3,values!D194,IF(lang=1,values!N194,IF(lang=2,values!X194,IF(lang=4,values!AH194,"set lang!")))) -> 1.2 Dans quelle mesure les processus prévus (l'ensemble des types d'activités subsidiées) sont-ils mis en œuvre dans les délais impartis ? | C11: A
A12: A | B12: =IF(lang=3,values!D225,IF(lang=1,values!N225,IF(lang=2,values!X225,IF(lang=4,values!AH225,"set lang!")))) -> Toutes les activités sont réalisées dans les délais impartis et conduiront à la réalisation de tous les outputs. Interprétation du rapport final : toutes les activités ont été réalisées dans les délais impartis et ont conduit à la réalisation de tous les outputs.
A13: B | B13: =IF(lang=3,values!D226,IF(lang=1,values!N226,IF(lang=2,values!X226,IF(lang=4,values!AH226,"set lang!")))) -> La plupart des activités sont mises en œuvre dans les délais impartis. Certaines sont retardées, mais sans affecter la réalisation des outputs. Interprétation du rapport final : la plupart des activités ont été mises en œuvre dans les délais impartis. Certaines ont été réalisées en retard, avec une incidence mineure sur la réalisation des outputs. Les leçons tirées doivent servir à des interventions analogues à l'avenir.
A14: C | B14: =IF(lang=3,values!D227,IF(lang=1,values!N227,IF(lang=2,values!X227,IF(lang=4,values!AH227,"set lang!")))) -> Les activités ont été retardées. Des mesures correctives sont nécessaires pour obtenir les outputs escomptés. Interprétation du rapport final : les activités accusent un retard. Malgré les mesures correctives mises en œuvre, les outputs n'ont été que partiellement atteints. Les leçons tirées doivent servir à des interventions analogues à l'avenir.
A15: D | B15: =IF(lang=3,values!D228,IF(lang=1,values!N228,IF(lang=2,values!X228,IF(lang=4,values!AH228,"set lang!")))) -> Les activités ont accusé un retard important. Les outputs ne peuvent être obtenus que si des changements importants interviennent dans la planification. Interprétation du rapport final : les activités ont accusé un retard important. Les outputs ont été insuffisamment atteints. Les mesures correctives n'ont pas eu l'effet escompté ou n'ont pas pu être mises en œuvre comme prévu. Une réflexion de fond quant à des interventions analogues à l'avenir s'impose.
A16: =IF(lang=3,values!D199,IF(lang=1,values!N199,IF(lang=2,values!X199,IF(lang=4,values!AH199,"set lang!")))) -> COMMENTAIRES
A17: Malgré le démarrage tardif du projet, les activités non réalisées la première année ont été rattrapées et réalisées cette année. Grâce à des ajustements dans la planification et les budgets, toutes les activités ont été achevées avant la date de clôture du projet, le 31 mars 2024, et tous les objectifs ont été atteints.

Sheet 2. Effectiveness
A1: =IF(lang=3,values!D274,IF(lang=1,values!N274,IF(lang=2,values!X274,IF(lang=4,values!AH274,"set lang!")))) -> 2. EFFICACITÉ : la mesure dans laquelle l'objectif spécifique (outcome) a été atteint, comme prévu à la fin de l'année N | C1: =IF(lang=3,values!D334,IF(lang=1,values!N334,IF(lang=2,values!X334,IF(lang=4,values!AH334,"set lang!")))) -> SCORE
A2: =IF(lang=3,values!D275,IF(lang=1,values!N275,IF(lang=2,values!X275,IF(lang=4,values!AH275,"set lang!")))) -> SCORE GLOBAL EFFICACITÉ | C2: =IF(COUNTIF(C$4:C$18,"-")>0,"-",IF(COUNTIF(C$4:C$18,"D")>0,"D",IF(COUNTIF(C$4:C$18,"C")>0,"C",IF(COUNTIF(C$4:C$18,"B")>1,"B","A")))) -> A
A3: =IF(lang=3,values!D276,IF(lang=1,values!N276,IF(lang=2,values!X276,IF(lang=4,values!AH276,"set lang!")))) -> Interprétation du critère d'efficacité : L'efficacité consiste à atteindre l'objectif spécifique (= outcome) et se situe au niveau des bénéficiaires. Le niveau de réalisation des outputs est évalué dans ce cadre, car il est considéré comme une condition préalable à la réalisation des outcomes. Il s'agit de l'exhaustivité et de la qualité des outputs fournis. La qualité fait référence à la satisfaction des besoins des bénéficiaires. Cela signifie également, par exemple, que les bénéficiaires ont accès aux outputs et qu'ils sont susceptibles d'en faire usage.
A4: =IF(lang=3,values!D277,IF(lang=1,values!N277,IF(lang=2,values!X277,IF(lang=4,values!AH277,"set lang!")))) -> 2.1 Dans quelle mesure les outputs sont-ils atteints et de bonne qualité ? | C4: A
A5: A | B5: =IF(lang=3,values!D308,IF(lang=1,values!N308,IF(lang=2,values!X308,IF(lang=4,values!AH308,"set lang!")))) -> Tous les outputs ont été ou sont susceptibles d'être atteints comme prévu et sont de bonne qualité._x000D_ Interprétation du rapport final : tous les outputs ont été atteints comme prévu et sont de bonne qualité.
A6: B | B6: =IF(lang=3,values!D309,IF(lang=1,values!N309,IF(lang=2,values!X309,IF(lang=4,values!AH309,"set lang!")))) -> Certains ajustements sont nécessaires pour garantir que les outputs prévus seront atteints et de bonne qualité. Ces ajustements sont minimes et seront réalisés dans le cadre de l'intervention._x000D_ Interprétation du rapport final : la plupart des outputs ont été atteints. Certains ajustements se sont avérés nécessaires. Tout n'a pas été mis en œuvre comme prévu. Toutefois, les outputs non effectués n'ont pas constitué un obstacle insurmontable à la réalisation de l'objectif spécifique. Les leçons tirées doivent servir à des interventions analogues à l'avenir.
A7: C | B7: =IF(lang=3,values!D310,IF(lang=1,values!N310,IF(lang=2,values!X310,IF(lang=4,values!AH310,"set lang!")))) -> Certains outputs ne sont/seront pas fournis comme prévu ou ne seront pas de bonne qualité. De ce fait, l'objectif spécifique ne sera que partiellement atteint. Des ajustements sont nécessaires._x000D_ Interprétation du rapport final : un certain nombre d'outputs n'ont pas été atteints ou ne sont pas de bonne qualité. Les mesures correctives n'ont pas eu l'effet escompté ou n'ont pas pu être mises en œuvre comme prévu. Les leçons tirées doivent servir à des interventions analogues à l'avenir.
A8: D | B8: =IF(lang=3,values!D311,IF(lang=1,values!N311,IF(lang=2,values!X311,IF(lang=4,values!AH311,"set lang!")))) -> La qualité et la réalisation de la majorité des outputs comportent ou risquent de comporter de graves lacunes. Cela aura pour conséquence que l'objectif spécifique ne sera pas atteint. Des ajustements majeurs sont nécessaires. Interprétation du rapport final : la plupart des outputs n'ont pas été atteints ou sont de mauvaise qualité. Les mesures correctives n'ont pas eu l'effet escompté ou n'ont pas pu être mises en œuvre comme prévu. Une réflexion de fond quant à des interventions similaires à l'avenir s'impose.
A9: =IF(lang=3,values!D282,IF(lang=1,values!N282,IF(lang=2,values!X282,IF(lang=4,values!AH282,"set lang!")))) -> COMMENTS
A10: Tous les outputs ont été atteints (même dépassé pour certains) et sont de qualité grâce à une approche rigoureuse : chaque activité a nécessité l'élaboration de Termes de Référence (TdRs) pour garantir des résultats de qualité, impliquant des experts médicaux en santé publique et des professionnels académiques. Toutes les parties prenantes ont été préalablement formées pour communiquer efficacement sur les enjeux liés au parcours EVRAS (Éducation à la Vie Relationnelle, Affective et Sexuelle). Avant le démarrage des activités, les organisations communautaires de base, les prestataires de soins et les partenaires de mise en œuvre ont été formés sur les thématiques du parcours EVRAS. Des missions de renforcement des capacités des prestataires de soins et des agents communautaires ont été menées en collaboration avec la Division de la Santé du Sud-Kivu et l'Equipe Cadre de la Santé pour assurer une mise en œuvre efficace des activités dans les aires de santé du projet. Toutes ces stratégies opérationnelles ont été élaborées en concertation avec toutes les parties prenantes pour garantir un accompagnement efficace des activités sur le terrain.
A11: =IF(lang=3,values!D284,IF(lang=1,values!N284,IF(lang=2,values!X284,IF(lang=4,values!AH284,"set lang!")))) -> 2.2 Quelle est la probabilité de réalisation de l'objectif spécifique si la mise en œuvre se déroule comme aujourd'hui ? | C11: A
A12: A | B12: =IF(lang=3,values!D315,IF(lang=1,values!N315,IF(lang=2,values!X315,IF(lang=4,values!AH315,"set lang!")))) -> La réalisation complète de l'objectif spécifique sur les plans de la qualité et de la portée est probable. Les effets négatifs de l'intervention (le cas échéant) ont été atténués._x000D_ Interprétation du rapport final : l'objectif spécifique a été (presque) pleinement atteint sur les plans de la qualité et de la portée. Les effets négatifs de l'intervention (le cas échéant) ont été atténués.
A13: B | B13: =IF(lang=3,values!D316,IF(lang=1,values!N316,IF(lang=2,values!X316,IF(lang=4,values!AH316,"set lang!")))) -> L'objectif spécifique sera atteint avec quelques restrictions mineures sur les plans de la qualité et/ou de la portée ; les effets négatifs (le cas échéant) n'ont pas causé de dommages importants. Interprétation du rapport final : l'objectif spécifique a été largement atteint. Des restrictions mineures existent sur les plans de la qualité et/ou de la portée ; les effets négatifs (le cas échéant) n'ont pas causé de dommages importants. Les leçons tirées doivent servir à des interventions analogues à l'avenir.
A14: C | B14: =IF(lang=3,values!D317,IF(lang=1,values!N317,IF(lang=2,values!X317,IF(lang=4,values!AH317,"set lang!")))) -> L'objectif spécifique ne sera que partiellement atteint. Des mesures correctives doivent être prises pour améliorer la probabilité d'atteindre l'objectif spécifique. Interprétation du rapport final : l'objectif spécifique n'a été que partiellement atteint. Les mesures correctives n'ont pas eu l'effet escompté ou n'ont pas pu être mises en œuvre comme prévu. Les leçons tirées doivent servir à des interventions analogues à l'avenir.
A15: D | B15: =IF(lang=3,values!D318,IF(lang=1,values!N318,IF(lang=2,values!X318,IF(lang=4,values!AH318,"set lang!")))) -> L'intervention n'atteindra pas son objectif si des mesures fondamentales et importantes ne sont pas prises. Interprétation du rapport final : l'intervention n'a pas atteint son objectif spécifique. Les mesures correctives n'ont pas eu l'effet escompté ou n'ont pas pu être mises en œuvre comme prévu. Une réflexion de fond quant à des interventions analogues à l'avenir s'impose.
A16: =IF(lang=3,values!D289,IF(lang=1,values!N289,IF(lang=2,values!X289,IF(lang=4,values!AH289,"set lang!")))) -> COMMENTAIRES
A17: La réalisation complète de l'objectif spécifique a été atteint. Pour surmonter les obstacles potentiels et garantir des résultats de qualité, des activités supplémentaires ont été déployées. Initialement, une analyse contextuelle a permis d'identifier les ajustements nécessaires pour atteindre les objectifs fixés dans la Zone de Santé de Miti Murhesa. Par exemple, l'activité de diffusion d'outils digitaux s'est avérée inadaptée pour la cible des jeunes et adolescents vivant en milieu rural, où la majorité n'a pas accès aux smartphones ou est sous contrôle parental. Une révision de cette activité a conduit à l'installation de postes de télévision dans 10 centres de santé pour organiser des vidéos forums avec des films éducatifs sur les thèmes EVRAS, fournis par la division provinciale PNSA. Cette initiative a été saluée par les autorités sanitaires, et d'ici la fin du premier semestre 2024, tous les centres de santé de la ZS seront équipés de télévisions pour des animations en santé menées par les infirmiers titulaires, avec le soutien du Bureau Central de la zone de santé. Ces ajustements ont été réalisés en impliquant continuellement toutes les parties prenantes du projet, à travers des dialogues communautaires et des cadres de concertation pour la santé.

Sheet 3. Relevance
A1: =IF(lang=3,values!D364,IF(lang=1,values!N364,IF(lang=2,values!X364,IF(lang=4,values!AH364,"set lang!")))) -> 3. PERTINENCE : la mesure dans laquelle l'intervention répond aux priorités du public-cible, des organisations partenaires ou du donateur. | C1: =IF(lang=3,values!D424,IF(lang=1,values!N424,IF(lang=2,values!X424,IF(lang=4,values!AH424,"set lang!")))) -> SCORE
A2: =IF(lang=3,values!D365,IF(lang=1,values!N365,IF(lang=2,values!X365,IF(lang=4,values!AH365,"set lang!")))) -> SCORE GLOBAL PERTINENCE | C2: =C4 -> A
A3: =IF(lang=3,values!D366,IF(lang=1,values!N366,IF(lang=2,values!X366,IF(lang=4,values!AH366,"set lang!")))) -> Interprétation du critère de pertinence : La pertinence, soit la mesure dans laquelle les objectifs d'une intervention en faveur du développement correspondent aux besoins des bénéficiaires et du pays, aux priorités globales et à la politique des partenaires et des donateurs, a fait l'objet d'une première évaluation lors de l’appréciation des programmes. L’interprétation de ce critère dans le suivi est donc plutôt orientée vers un contexte complexe ou changeant en raison duquel la pertinence des objectifs ou le programme de l'intervention pourraient ne plus être (entièrement) garantis et qui nécessiterait des ajustements. Parmi ces ajustements peuvent figurer une adaptation de la théorie du changement.
A4: =IF(lang=3,values!D367,IF(lang=1,values!N367,IF(lang=2,values!X367,IF(lang=4,values!AH367,"set lang!")))) -> 3.1 Quelle est la pertinence de l'outcome, compte tenu des éventuels changements qui se sont produits au cours de l'année écoulée dans le contexte externe (pays/partenaire/etc.) ou au sein de l'organisation (dans son ensemble et/ou au niveau du pays, en matière RH, sur le plan institutionnel et/ou financier) ? Dans quelle mesure ces changements ont-ils affecté la pertinence de l'intervention et comment la situation a-t-elle été appréhendée ? | C4: A
A5: A | B5: =IF(lang=3,values!D398,IF(lang=1,values!N398,IF(lang=2,values!X398,IF(lang=4,values!AH398,"set lang!")))) -> La pertinence de l’outcome est toujours très bonne. Aucun changement ne s’est produit dans le contexte et/ou au sein de l’organisation, ou bien les changements ont été très bien anticipés. Interprétation du rapport final : la pertinence de l'outcome a toujours été très bonne. Aucun changement ne s’est produit dans le contexte et/ou au sein de l’organisation, ou bien les changements survenus avaient été très bien anticipés.
A6: B | B6: =IF(lang=3,values!D399,IF(lang=1,values!N399,IF(lang=2,values!X399,IF(lang=4,values!AH399,"set lang!")))) -> La pertinence est bonne. Des changements mineurs se sont produits dans le contexte et/ou au sein de l’organisation, avec une influence réduite sur la pertinence. Les mesures nécessaires sont prises ou planifiées dans le cadre de l’intervention pour y remédier. Grâce à ces adaptations, l’intervention répondra de nouveau grandement aux priorités des bénéficiaires, de l’organisation partenaire, du donateur… comme prévu dans le document de programmation. Interprétation du rapport final : la pertinence a été bonne. Des changements mineurs se sont produits dans le contexte et/ou au sein de l’organisation, avec une influence réduite sur la pertinence. La plupart des mesures nécessaires ont été prises dans le cadre de l’intervention pour y remédier. Grâce à ces adaptations, l’intervention répondait grandement aux priorités des bénéficiaires, de l’organisation partenaire, du donateur… comme prévu dans le document de programmation. Les leçons tirées doivent servir à des interventions analogues à l'avenir.
A7: C | B7: =IF(lang=3,values!D400,IF(lang=1,values!N400,IF(lang=2,values!X400,IF(lang=4,values!AH400,"set lang!")))) -> L’outcome n’est pertinent qu’en partie. Un ou plusieurs changements importants se sont produits dans le contexte et/ou au sein de l’organisation. Sans ajustement, l’intervention perdra une part importante de sa pertinence pour le public-cible, les organisations partenaires et/ou le donateur. Interprétation du rapport final : L'outcome n'a été que partiellement pertinent. Un ou plusieurs changements importants se sont produits dans le contexte et/ou au sein de l’organisation. L’intervention a perdu une part importante de sa pertinence pour le public-cible, les organisations partenaires et/ou le donateur. Les mesures correctives n'ont eu qu'un effet partiel ou n'ont pas pu être entièrement mises en œuvre comme prévu. Les leçons tirées doivent servir à des interventions analogues à l'avenir.
A8: D | B8: =IF(lang=3,values!D401,IF(lang=1,values!N401,IF(lang=2,values!X401,IF(lang=4,values!AH401,"set lang!")))) -> La pertinence de l’outcome est menacée. Les changements dans le contexte et/ou au sein de l’organisation sont tels que l’intervention est devenue ou risque de devenir tout à fait non pertinente. Des ajustements majeurs sont nécessaires. Interprétation du rapport final : les changements dans le contexte et/ou au sein de l’organisation ont été tels que l’intervention a perdu toute sa pertinence. L'ajustement n'a pas eu l'effet désiré ou n'a pas pu être mis en œuvre comme prévu. Une réflexion de fond quant à des interventions analogues à l'avenir s'impose.
A9: =IF(lang=3,values!D372,IF(lang=1,values!N372,IF(lang=2,values!X372,IF(lang=4,values!AH372,"set lang!")))) -> COMMENTAIRE
A10: Aucun changement contextuel n'a été observé durant la mise en œuvre. L'objectif du programme s'aligne derrière la politique genre de la RDC qui concoure à l'égalité entre les sexes et l'autonomisation des femmes et filles ainsi qu'au protocole de Maputo qui est déjà en application en RDC. Les changements étaient anticipés en s'appuyant sur les politiques et lois de la RDC et sur les objectifs de développement durable 3 (Santé et bien être par ses cibles 3.5 et 3.7) et 5 (Égalités entre les sexes par ses cibles 5.2, 5.3 et 5.6).

Sheet 4. Potential sustainability
A1: =IF(lang=3,values!D454,IF(lang=1,values!N454,IF(lang=2,values!X454,IF(lang=4,values!AH454,"set lang!")))) -> 4. DURABILITÉ POTENTIELLE : le degré de probabilité de pérenniser et reproduire les bénéfices d’une intervention sur le long terme (au-delà de la période de l’intervention). | C1: =IF(lang=3,values!D514,IF(lang=1,values!N514,IF(lang=2,values!X514,IF(lang=4,values!AH514,"set lang!")))) -> SCORE
A2: =IF(lang=3,values!D455,IF(lang=1,values!N455,IF(lang=2,values!X455,IF(lang=4,values!AH455,"set lang!")))) -> SCORE GLOBAL DURABILITÉ | C2: =IF(COUNTIF(C$4:C$20,"-")>0,"-",IF(COUNTIF(C$4:C$20,"D")>0,"D",IF(COUNTIF(C$4:C$20,"C")>0,"C",IF(COUNTIF(C$4:C$20,"B")>1,"B","A")))) -> A
A3: =IF(lang=3,values!D456,IF(lang=1,values!N456,IF(lang=2,values!X456,IF(lang=4,values!AH456,"set lang!")))) -> Interprétation du critère de durabilité : Ce critère permet d'estimer le potentiel de pérennisation des bénéfices de l’intervention au-delà de la période de subvention actuelle. Pour ce faire, trois aspects de durabilité seront évalués : la durabilité financière, la durabilité sociale et la durabilité technique de la stratégie mise en œuvre. L’aspect durabilité écologique/environnement est évalué séparément comme un critère à part entière, vu qu’il constitue un thème transversal. Lorsque la question fait référence aux partenaires et/ou aux bénéficiaires, il convient de l'interpréter en fonction des modalités de travail et du groupe cible de l’intervention (le(s) partenaire(s) et/ou les bénéficiaires finaux).
A4: =IF(lang=3,values!D457,IF(lang=1,values!N457,IF(lang=2,values!X457,IF(lang=4,values!AH457,"set lang!")))) -> 4.1 Quel est le potentiel de durabilité financière et, si d'application, de viabilité économique de l'intervention ? Pour l'Éducation à la citoyenneté mondiale (ECM), la question porte sur les méthodes, instruments et/ou outils qui ont été développés dans le cadre de l'intervention. | C4: B
A5: A | B5: =IF(lang=3,values!D488,IF(lang=1,values!N488,IF(lang=2,values!X488,IF(lang=4,values!AH488,"set lang!")))) -> Le potentiel de durabilité financière est très bon : les principaux instruments, stratégies, méthodes, et/ou outils... développés dans le cadre de l'intervention ont été conçus pour un usage au-delà de la période de l'intervention. Les éventuels coûts pour la pérennisation des bénéfices de l'intervention peuvent en grande partie être couverts. Interprétation du rapport final : la durabilité financière est très bonne. Les principaux instruments, stratégies, méthodes et/ou outils développés dans le cadre de l'intervention ont été conçus pour un usage au-delà de la période de l'intervention. Les éventuels coûts pour la pérennisation des bénéfices de l'intervention pourront continuer à être supportés.
A6: B | B6: =IF(lang=3,values!D489,IF(lang=1,values!N489,IF(lang=2,values!X489,IF(lang=4,values!AH489,"set lang!")))) -> Il existe des risques mineurs qui peuvent avoir une influence sur la bonne durabilité financière. Ces risques sont maîtrisés dans le cadre de l’intervention. Interprétation du rapport final : des risques mineurs sont apparus, mais leur influence sur la durabilité financière a été limitée. La plupart des adaptations mineures nécessaires pour optimiser la durabilité ont été réalisées dans le cadre de l'intervention. Les leçons tirées doivent servir à des interventions analogues à l'avenir.
A7: C | B7: =IF(lang=3,values!D490,IF(lang=1,values!N490,IF(lang=2,values!X490,IF(lang=4,values!AH490,"set lang!")))) -> Il faut s'attaquer aux problèmes qui se posent dans le domaine de la durabilité financière afin que les éventuels coûts récurrents ou changements au niveau du contexte économique ne bloquent pas directement les bénéfices de l'intervention. Interprétation du rapport final : la durabilité financière est partiellement atteinte. Les mesures correctives n'ont eu qu'un effet partiel ou n'ont pas été complètement exécutées comme prévu. Les leçons tirées doivent servir à des interventions analogues à l'avenir.
A8: D | B8: =IF(lang=3,values!D491,IF(lang=1,values!N491,IF(lang=2,values!X491,IF(lang=4,values!AH491,"set lang!")))) -> La durabilité financière n’est pas garantie et il en résultera que les bénéfices de l’intervention ne seront pas préservés à l'issue de l'intervention. Des changements majeurs doivent être réalisés afin de garantir la durabilité. Interprétation du rapport final : la durabilité financière n’est pas garantie et il en résulte que les bénéfices de l’intervention ne se poursuivent pas à l'issue de l'intervention. Les mesures correctives n'ont pas eu l'effet escompté ou n'ont pas été exécutées comme prévu. Une réflexion de fond quant à des interventions analogues à l'avenir s'impose.
A9: =IF(lang=3,values!D462,IF(lang=1,values!N462,IF(lang=2,values!X462,IF(lang=4,values!AH462,"set lang!")))) -> COMMENTAIRES
A10: La durabilité financière à long terme reste un défi. Bien que les Comité de santé (CODESA), les prestataires de soins et l'Equipe Cadre de Zone soient disponibles et formés, un accompagnement continu est nécessaire pour garantir la pérennité du processus. Les coûts liés aux supervisions (carburant, perdiem, etc.) restent alors pertinents, nécessitant une subvention du gouvernement congolais pour éviter les blocages financiers. L'appui aux organisations communautaires de base pour la pérennisation des activités génératrices de revenus est crucial pour assurer l'autofinancement des activités de sensibilisation au sein de la communauté. Afin de ne pas perdre les acquis du projet, la recherche de sources de financement alternatives est essentielle pour pérenniser les acquis du projet et renforcer le système de santé en RDC, impliquant notamment le BCZ et la DPS.
A11: =IF(lang=3,values!D464,IF(lang=1,values!N464,IF(lang=2,values!X464,IF(lang=4,values!AH464,"set lang!")))) -> 4.2 Les conditions sont-elles réunies pour garantir la durabilité sociale des bénéfices de la stratégie appliquée, même au-delà de la période de l’intervention ? (par ex. participation et implication des bénéficiaires, groupes cibles/acteurs intermédiaires, effet multiplicateur, ancrage dans des organisations existantes, création d’une base de soutien, intégration dans la politique, facilitation des échanges d'expertise…) | C11: A
A12: A | B12: =IF(lang=3,values!D495,IF(lang=1,values!N495,IF(lang=2,values!X495,IF(lang=4,values!AH495,"set lang!")))) -> La stratégie appliquée accorde une grande attention aux conditions favorisant la durabilité sociale, l'implication et l'adhésion, ce qui donne potentiellement lieu à des effets durables. Interprétation du rapport final : la stratégie appliquée a accordé une grande attention aux conditions favorisant la durabilité sociale, l'implication et l'adhésion, ce qui a donné lieu à des effets durables.
A13: B | B13: =IF(lang=3,values!D496,IF(lang=1,values!N496,IF(lang=2,values!X496,IF(lang=4,values!AH496,"set lang!")))) -> Des adaptations mineures sont nécessaires pour optimiser la durabilité sociale des effets, entre autres en matière d'implication et d'adhésion. Elles seront apportées dans le cadre de l'intervention. Interprétation du rapport final : la plupart des adaptations mineures nécessaires pour optimiser la durabilité sociale des effets, e.a. en matière d'implication et d'adhésion, ont été apportées dans le cadre de l'intervention. Les leçons tirées doivent servir à des interventions analogues à l'avenir.
A14: C | B14: =IF(lang=3,values!D497,IF(lang=1,values!N497,IF(lang=2,values!X497,IF(lang=4,values!AH497,"set lang!")))) -> Les conditions favorisant la durabilité sociale ne seront que partiellement remplies. Un certain nombre de problèmes (e.a. en matière d'implication et d'adhésion) devront être résolus pour renforcer la durabilité sociale des effets. Interprétation du rapport final : les conditions favorisant la durabilité sociale n'ont été que partiellement remplies. Les mesures correctives (e.a. en matière d'implication et d'adhésion) n'ont eu qu'un effet partiel ou n'ont pas été complètement exécutées comme prévu. Les leçons tirées doivent servir à des interventions analogues à l'avenir.
A15: D | B15: =IF(lang=3,values!D498,IF(lang=1,values!N498,IF(lang=2,values!X498,IF(lang=4,values!AH498,"set lang!")))) -> Des adaptations majeures doivent être apportées à la stratégie appliquée afin de garantir la durabilité sociale des bénéfices de l'intervention. Interprétation du rapport final : La durabilité sociale n'est pas garanti et a comme effet que les effets de l'intervention ne perdureront pas après l'intervention. Les mesures correctives n'ont pas eu l'effet escompté pour la durabilité sociale ou n'ont pas été exécutées comme prévu. Une réflexion de fond quant à des interventions analogues à l'avenir s'impose.
A16: =IF(lang=3,values!D469,IF(lang=1,values!N469,IF(lang=2,values!X469,IF(lang=4,values!AH469,"set lang!")))) -> COMMENTAIRES
A17: Les CODESA sont fonctionnels et intègrent les activités EVRAS ciblant les adolescent.e.s et jeunes dans leurs planifications, et cela, sans appuis financier supplémentaire. Les stratégies mobilisées ont permis par exemple de former et de sensibiliser plus de bénéficiaires de tranche d'âge et de groupes socio-culturels différents au sein d'une même communauté (parents, jeunes, chefs religieux, chefs communautaires, infirmiers des centres de santé, etc.). Les membres de la communauté deviennent alors une source d'informations pour les autres membres et ils.elles sont à même de comprendre leurs problèmes et d'y apporter des informations qui permettront d'adopter des comportements favorables en santé et en équité de genre. Cependant, il reste important d'exercer une prudence, car l'appropriation à long terme lié à des programmes de courte durée d’action, peut être difficile à garantir. Encore plus certainement dans des contextes de changements sociétaux incertains, notamment dans des zones affectées par des conflits armés, comme au Kivu.
A18: =IF(lang=3,values!D471,IF(lang=1,values!N471,IF(lang=2,values!X471,IF(lang=4,values!AH471,"set lang!")))) -> 4.3 Quel est le degré de durabilité technique de l'intervention ? La durabilité technique est liée aux types de connaissances nécessaires que les acteurs concernés doivent développer, maîtriser et exploiter pour faire perdurer les bénéfices de l'intervention à l'issue de cette dernière, ainsi qu'à la présence des outils nécessaires à cet effet. | C18: A
A19: A | B19: =IF(lang=3,values!D502,IF(lang=1,values!N502,IF(lang=2,values!X502,IF(lang=4,values!AH502,"set lang!")))) -> Le potentiel de durabilité technique est très bon : tout est mis en œuvre afin que les différents types de connaissances et outils développés dans le cadre de l'intervention soient maîtrisés et exploités par les acteurs concernés en vue de leur usage même au-delà de la période de l'intervention. Interprétation du rapport final : les différents types de connaissances et outils développés dans le cadre de l'intervention sont maîtrisés et exploités par les acteurs concernés en vue d'un usage même au-delà de la période de l'intervention.
A20: B | B20: =IF(lang=3,values!D503,IF(lang=1,values!N503,IF(lang=2,values!X503,IF(lang=4,values!AH503,"set lang!")))) -> Il existe des risques mineurs qui peuvent avoir une influence sur la bonne durabilité technique, e.a. en termes de maîtrise et d'exploitation des connaissances et des outils nécessaires. Ces risques sont maîtrisés dans le cadre de l’intervention. Interprétation du rapport final : des risques mineurs sont apparus, mais leur influence sur la durabilité technique a été limitée, e.a. en termes de maîtrise et d'exploitation des connaissances et des outils nécessaires. La plupart des adaptations mineures nécessaires pour optimiser la durabilité technique ont été apportées dans le cadre de l'intervention. Les leçons tirées doivent servir à des interventions analogues à l'avenir.
A21: C | B21: =IF(lang=3,values!D504,IF(lang=1,values!N504,IF(lang=2,values!X504,IF(lang=4,values!AH504,"set lang!")))) -> Il faut s'attaquer aux problèmes qui se posent dans le domaine de la durabilité technique, e.a. en termes de maîtrise et d'exploitation des connaissances et des outils nécessaires. Interprétation du rapport final : la durabilité technique est partiellement atteinte en termes de maîtrise et d'exploitation des connaissances et des outils nécessaires. Les mesures correctives n'ont eu qu'un effet partiel ou n'ont pas été complètement exécutées comme prévu. Les leçons tirées doivent servir à des interventions analogues à l'avenir.
